BEGIN:VCALENDAR
VERSION:2.0
PRODID:-//hacksw/handcal//NONSGML v1.0//EN
BEGIN:VEVENT
SUMMARY:Tournoi Interne
UID:9810c368-4cb3-4804-80d6-dcec98624842
DTSTART:20260427T114500Z
DTEND:20260427T154500Z
LOCATION:Localisation   
CATEGORIES:Sportif
STATUS:
URL;VALUE=URI:https://www.mesquer-bridge.com/evenements/2026/04/27/tournoi-interne-2436226
END:VEVENT
END:VCALENDAR
