BEGIN:VCALENDAR
VERSION:2.0
PRODID:-//hacksw/handcal//NONSGML v1.0//EN
BEGIN:VEVENT
SUMMARY:Tournoi de Regularite
UID:a85ecc34-293c-4fcd-8c73-eadc84d6a3e9
DTSTART:20260408T114500Z
DTEND:20260408T154500Z
LOCATION:Localisation   
CATEGORIES:Sportif
STATUS:
URL;VALUE=URI:https://www.mesquer-bridge.com/evenements/2026/04/08/tournoi-de-regularite-2436234
END:VEVENT
END:VCALENDAR
